BEGIN:VCALENDAR
VERSION:2.0
PRODID:-//Eventin//Event Calendar//EN
CALSCALE:GREGORIAN
METHOD:PUBLISH
BEGIN:VEVENT
UID:cbfe73c9dd5a86a8ee7d43b04883e44b@bezirkbaden.grunliberale.ch
SUMMARY:Offener Treff GLP Siggenthal
DESCRIPTION:
LOCATION:Restaurant Neuhaus\, Nussbaumen
DTSTAMP:20260420T003232Z
DTSTART:20261202T183000Z
DTEND:20261202T203000Z
END:VEVENT
END:VCALENDAR
